BEGIN:VCALENDAR
VERSION:2.0
PRODID:-//Donnergymnasiet - ECPv6.5.0//NONSGML v1.0//EN
CALSCALE:GREGORIAN
METHOD:PUBLISH
X-ORIGINAL-URL:https://donnergymnasiet.se
X-WR-CALDESC:Händelser för Donnergymnasiet
REFRESH-INTERVAL;VALUE=DURATION:PT1H
X-Robots-Tag:noindex
X-PUBLISHED-TTL:PT1H
BEGIN:VTIMEZONE
TZID:Europe/Stockholm
BEGIN:DAYLIGHT
TZOFFSETFROM:+0100
TZOFFSETTO:+0200
TZNAME:CEST
DTSTART:20240331T010000
END:DAYLIGHT
BEGIN:STANDARD
TZOFFSETFROM:+0200
TZOFFSETTO:+0100
TZNAME:CET
DTSTART:20241027T010000
END:STANDARD
END:VTIMEZONE
BEGIN:VEVENT
DTSTART;VALUE=DATE:20241015
DTEND;VALUE=DATE:20241016
DTSTAMP:20260424T230440
CREATED:20240822T121831Z
LAST-MODIFIED:20240822T121911Z
UID:7317-1728950400-1729036799@donnergymnasiet.se
SUMMARY:SA/SAMU: Klassfoto
DESCRIPTION:
URL:https://donnergymnasiet.se/evenemang/sa-samu-klassfoto/
END:VEVENT
END:VCALENDAR