BEGIN:VCALENDAR
VERSION:2.0
PRODID:-//Donnergymnasiet - ECPv6.5.0//NONSGML v1.0//EN
CALSCALE:GREGORIAN
METHOD:PUBLISH
X-WR-CALNAME:Donnergymnasiet
X-ORIGINAL-URL:https://donnergymnasiet.se
X-WR-CALDESC:Händelser för Donnergymnasiet
REFRESH-INTERVAL;VALUE=DURATION:PT1H
X-Robots-Tag:noindex
X-PUBLISHED-TTL:PT1H
BEGIN:VTIMEZONE
TZID:Europe/Stockholm
BEGIN:DAYLIGHT
TZOFFSETFROM:+0100
TZOFFSETTO:+0200
TZNAME:CEST
DTSTART:20250330T010000
END:DAYLIGHT
BEGIN:STANDARD
TZOFFSETFROM:+0200
TZOFFSETTO:+0100
TZNAME:CET
DTSTART:20251026T010000
END:STANDARD
END:VTIMEZONE
BEGIN:VEVENT
DTSTART;TZID=Europe/Stockholm:20250118T110000
DTEND;TZID=Europe/Stockholm:20250118T120000
DTSTAMP:20260424T180806
CREATED:20250106T110238Z
LAST-MODIFIED:20250106T110238Z
UID:9183-1737198000-1737201600@donnergymnasiet.se
SUMMARY:Extra Öppet Hus (sportprofiler)
DESCRIPTION:
URL:https://donnergymnasiet.se/evenemang/extra-oppet-hus-sportprofiler/
END:VEVENT
END:VCALENDAR