BEGIN:VCALENDAR
VERSION:2.0
PRODID:-//Donnergymnasiet - ECPv6.5.0//NONSGML v1.0//EN
CALSCALE:GREGORIAN
METHOD:PUBLISH
X-ORIGINAL-URL:https://donnergymnasiet.se
X-WR-CALDESC:Händelser för Donnergymnasiet
REFRESH-INTERVAL;VALUE=DURATION:PT1H
X-Robots-Tag:noindex
X-PUBLISHED-TTL:PT1H
BEGIN:VTIMEZONE
TZID:Europe/Stockholm
BEGIN:DAYLIGHT
TZOFFSETFROM:+0100
TZOFFSETTO:+0200
TZNAME:CEST
DTSTART:20240331T010000
END:DAYLIGHT
BEGIN:STANDARD
TZOFFSETFROM:+0200
TZOFFSETTO:+0100
TZNAME:CET
DTSTART:20241027T010000
END:STANDARD
END:VTIMEZONE
BEGIN:VEVENT
DTSTART;VALUE=DATE:20240611
DTEND;VALUE=DATE:20240612
DTSTAMP:20260425T031143
CREATED:20240516T105642Z
LAST-MODIFIED:20240517T114656Z
UID:6846-1718064000-1718150399@donnergymnasiet.se
SUMMARY:Skolavslutning åk 1 & 2 - 2024
DESCRIPTION:
URL:https://donnergymnasiet.se/evenemang/skolavslutning-ak-1-2-2024/
LOCATION:Donnergymnasiet\, Celsiusgatan 10\, Göteborg\, 417 62\, Sverige
END:VEVENT
BEGIN:VEVENT
DTSTART;VALUE=DATE:20240613
DTEND;VALUE=DATE:20240614
DTSTAMP:20260425T031143
CREATED:20240516T105944Z
LAST-MODIFIED:20240521T060634Z
UID:6849-1718236800-1718323199@donnergymnasiet.se
SUMMARY:Student - 2024
DESCRIPTION:Studenter kommer samlas på skolgården kl 9.00 därefter kommer det vara aktiviteter tillsammans med klassen samt klassfotografering i skolan. Klockan 11.20 kommer samtliga studenter gemensamt med sin klass promenera till Eriksbergshallen för studentlunch och underhållning.\n‍\nUtspring kommer att ske med start kl.13.00 på scen vid Eriksbergshallen\, Sjöportsgatan 5\, 417 64 Göteborg. Vi kommer efter utspringet att traditionsenligt gå sambatåg i vårt närområde till elevernas studentflak. Sambatåget kommer att starta ca 13.40.
URL:https://donnergymnasiet.se/evenemang/student-2024/
LOCATION:Donnergymnasiet\, Celsiusgatan 10\, Göteborg\, 417 62\, Sverige
END:VEVENT
END:VCALENDAR