BEGIN:VCALENDAR
VERSION:2.0
PRODID:-//Donnergymnasiet - ECPv6.5.0//NONSGML v1.0//EN
CALSCALE:GREGORIAN
METHOD:PUBLISH
X-ORIGINAL-URL:https://donnergymnasiet.se
X-WR-CALDESC:Händelser för Donnergymnasiet
REFRESH-INTERVAL;VALUE=DURATION:PT1H
X-Robots-Tag:noindex
X-PUBLISHED-TTL:PT1H
BEGIN:VTIMEZONE
TZID:Europe/Stockholm
BEGIN:DAYLIGHT
TZOFFSETFROM:+0100
TZOFFSETTO:+0200
TZNAME:CEST
DTSTART:20240331T010000
END:DAYLIGHT
BEGIN:STANDARD
TZOFFSETFROM:+0200
TZOFFSETTO:+0100
TZNAME:CET
DTSTART:20241027T010000
END:STANDARD
END:VTIMEZONE
BEGIN:VEVENT
DTSTART;VALUE=DATE:20241008
DTEND;VALUE=DATE:20241011
DTSTAMP:20260424T212847
CREATED:20240822T121756Z
LAST-MODIFIED:20240822T122125Z
UID:7315-1728345600-1728604799@donnergymnasiet.se
SUMMARY:Gymnasiemässan
DESCRIPTION:
URL:https://donnergymnasiet.se/evenemang/gymnasiemassan/
END:VEVENT
BEGIN:VEVENT
DTSTART;VALUE=DATE:20241015
DTEND;VALUE=DATE:20241016
DTSTAMP:20260424T212847
CREATED:20240822T121831Z
LAST-MODIFIED:20240822T121911Z
UID:7317-1728950400-1729036799@donnergymnasiet.se
SUMMARY:SA/SAMU: Klassfoto
DESCRIPTION:
URL:https://donnergymnasiet.se/evenemang/sa-samu-klassfoto/
END:VEVENT
BEGIN:VEVENT
DTSTART;VALUE=DATE:20241016
DTEND;VALUE=DATE:20241017
DTSTAMP:20260424T212847
CREATED:20240822T121939Z
LAST-MODIFIED:20240822T121939Z
UID:7319-1729036800-1729123199@donnergymnasiet.se
SUMMARY:EK: klassfoto
DESCRIPTION:
URL:https://donnergymnasiet.se/evenemang/ek-klassfoto/
END:VEVENT
BEGIN:VEVENT
DTSTART;VALUE=DATE:20241017
DTEND;VALUE=DATE:20241018
DTSTAMP:20260424T212847
CREATED:20240822T122014Z
LAST-MODIFIED:20240822T122014Z
UID:7321-1729123200-1729209599@donnergymnasiet.se
SUMMARY:NA/NAMU: Klassfoto
DESCRIPTION:
URL:https://donnergymnasiet.se/evenemang/na-namu-klassfoto/
END:VEVENT
BEGIN:VEVENT
DTSTART;TZID=Europe/Stockholm:20241023T170000
DTEND;TZID=Europe/Stockholm:20241023T190000
DTSTAMP:20260424T212847
CREATED:20240517T073735Z
LAST-MODIFIED:20240517T074411Z
UID:6886-1729702800-1729710000@donnergymnasiet.se
SUMMARY:Öppet hus
DESCRIPTION:Varmt välkommen till öppet hus hos oss på Donnergymnasiet! \nUnder ett öppet hus får du se våra lokaler\, träffa elever\, prata med lärare och höra mer om våra olika program. Anmäl dig till öppet hus här!
URL:https://donnergymnasiet.se/evenemang/oppet-hus/
LOCATION:Donnergymnasiet\, Celsiusgatan 10\, Göteborg\, 417 62\, Sverige
END:VEVENT
BEGIN:VEVENT
DTSTART;VALUE=DATE:20241028
DTEND;VALUE=DATE:20241102
DTSTAMP:20260424T212847
CREATED:20240516T112907Z
LAST-MODIFIED:20240516T115332Z
UID:6860-1730073600-1730505599@donnergymnasiet.se
SUMMARY:Höstlov
DESCRIPTION:V. 44
URL:https://donnergymnasiet.se/evenemang/hostlov/
LOCATION:Donnergymnasiet\, Celsiusgatan 10\, Göteborg\, 417 62\, Sverige
CATEGORIES:Lov
END:VEVENT
END:VCALENDAR