BEGIN:VCALENDAR
VERSION:2.0
PRODID:-//Donnergymnasiet - ECPv6.5.0//NONSGML v1.0//EN
CALSCALE:GREGORIAN
METHOD:PUBLISH
X-ORIGINAL-URL:https://donnergymnasiet.se
X-WR-CALDESC:Händelser för Donnergymnasiet
REFRESH-INTERVAL;VALUE=DURATION:PT1H
X-Robots-Tag:noindex
X-PUBLISHED-TTL:PT1H
BEGIN:VTIMEZONE
TZID:Europe/Stockholm
BEGIN:DAYLIGHT
TZOFFSETFROM:+0100
TZOFFSETTO:+0200
TZNAME:CEST
DTSTART:20240331T010000
END:DAYLIGHT
BEGIN:STANDARD
TZOFFSETFROM:+0200
TZOFFSETTO:+0100
TZNAME:CET
DTSTART:20241027T010000
END:STANDARD
BEGIN:DAYLIGHT
TZOFFSETFROM:+0100
TZOFFSETTO:+0200
TZNAME:CEST
DTSTART:20250330T010000
END:DAYLIGHT
BEGIN:STANDARD
TZOFFSETFROM:+0200
TZOFFSETTO:+0100
TZNAME:CET
DTSTART:20251026T010000
END:STANDARD
END:VTIMEZONE
BEGIN:VEVENT
DTSTART;VALUE=DATE:20241223
DTEND;VALUE=DATE:20250108
DTSTAMP:20260424T170935
CREATED:20240516T112953Z
LAST-MODIFIED:20240516T120225Z
UID:6862-1734912000-1736294399@donnergymnasiet.se
SUMMARY:Jullov
DESCRIPTION:
URL:https://donnergymnasiet.se/evenemang/jullov/
LOCATION:Donnergymnasiet\, Celsiusgatan 10\, Göteborg\, 417 62\, Sverige
CATEGORIES:Lov
END:VEVENT
BEGIN:VEVENT
DTSTART;VALUE=DATE:20250108
DTEND;VALUE=DATE:20250109
DTSTAMP:20260424T170935
CREATED:20240516T113028Z
LAST-MODIFIED:20240516T113028Z
UID:6864-1736294400-1736380799@donnergymnasiet.se
SUMMARY:Terminsstart
DESCRIPTION:
URL:https://donnergymnasiet.se/evenemang/terminsstart/
LOCATION:Donnergymnasiet\, Celsiusgatan 10\, Göteborg\, 417 62\, Sverige
END:VEVENT
BEGIN:VEVENT
DTSTART;TZID=Europe/Stockholm:20250111T110000
DTEND;TZID=Europe/Stockholm:20250111T130000
DTSTAMP:20260424T170935
CREATED:20240517T073908Z
LAST-MODIFIED:20240517T074230Z
UID:6890-1736593200-1736600400@donnergymnasiet.se
SUMMARY:Öppet hus
DESCRIPTION:Varmt välkommen till öppet hus hos oss på Donnergymnasiet! \nUnder ett öppet hus får du se våra lokaler\, träffa elever\, prata med lärare och höra mer om våra olika program. Anmäl dig till öppet hus här!
URL:https://donnergymnasiet.se/evenemang/oppet-hus-3/
LOCATION:Donnergymnasiet\, Celsiusgatan 10\, Göteborg\, 417 62\, Sverige
END:VEVENT
BEGIN:VEVENT
DTSTART;TZID=Europe/Stockholm:20250114T090000
DTEND;TZID=Europe/Stockholm:20250114T120000
DTSTAMP:20260424T170935
CREATED:20250106T110324Z
LAST-MODIFIED:20250106T110324Z
UID:9185-1736845200-1736856000@donnergymnasiet.se
SUMMARY:Elev för en dag: SA & SAMU
DESCRIPTION:
URL:https://donnergymnasiet.se/evenemang/elev-for-en-dag-sa-samu/
END:VEVENT
BEGIN:VEVENT
DTSTART;TZID=Europe/Stockholm:20250115T090000
DTEND;TZID=Europe/Stockholm:20250115T120000
DTSTAMP:20260424T170935
CREATED:20250106T110355Z
LAST-MODIFIED:20250106T110355Z
UID:9187-1736931600-1736942400@donnergymnasiet.se
SUMMARY:Elev för en dag: EK
DESCRIPTION:
URL:https://donnergymnasiet.se/evenemang/elev-for-en-dag-ek/
END:VEVENT
BEGIN:VEVENT
DTSTART;TZID=Europe/Stockholm:20250116T090000
DTEND;TZID=Europe/Stockholm:20250116T120000
DTSTAMP:20260424T170935
CREATED:20250106T110425Z
LAST-MODIFIED:20250106T110425Z
UID:9189-1737018000-1737028800@donnergymnasiet.se
SUMMARY:Elev för en dag: NA & NAMU
DESCRIPTION:
URL:https://donnergymnasiet.se/evenemang/elev-for-en-dag-na-namu/
END:VEVENT
BEGIN:VEVENT
DTSTART;TZID=Europe/Stockholm:20250118T110000
DTEND;TZID=Europe/Stockholm:20250118T120000
DTSTAMP:20260424T170935
CREATED:20250106T110238Z
LAST-MODIFIED:20250106T110238Z
UID:9183-1737198000-1737201600@donnergymnasiet.se
SUMMARY:Extra Öppet Hus (sportprofiler)
DESCRIPTION:
URL:https://donnergymnasiet.se/evenemang/extra-oppet-hus-sportprofiler/
END:VEVENT
END:VCALENDAR